BEGIN:VCALENDAR
PRODID:-//Microsoft Corporation//Outlook MIMEDIR//EN
VERSION:2.0
METHOD:PUBLISH
BEGIN:VEVENT
DTSTART:20260423T110000
DTEND:20260423T120000
DESCRIPTION:Notice of Possible Quorum
LOCATION:City Hall
SUMMARY:City Council
CATEGORIES:MEETING
END:VEVENT
END:VCALENDAR
